BEGIN:VCALENDAR
VERSION:2.0
PRODID:-//Tukios.com/
BEGIN:VEVENT
UID:94e3d2f8-67fa-426b-8d3b-00550e8e89ec@www.morinfuneralhomes.com
DTSTAMP:20260420T225313Z
DTSTART:20260430T130000Z
DTEND:20260430T150000Z
SUMMARY:Visitation
DESCRIPTION:
URL:https://www.morinfuneralhomes.com/obituaries/linda-faucher
LOCATION:J. Henri Morin & Son Funeral Home 23 Maple St  Spencer MA 01562
GEO:42.2426623;-71.9910878
END:VEVENT
END:VCALENDAR