BEGIN:VCALENDAR
VERSION:2.0
PRODID:-//Tukios.com/
BEGIN:VEVENT
UID:dbed8c9f-2955-4f01-bb0b-00fe3ef299bd@www.morinfuneralhomes.com
DTSTAMP:20260420T225214Z
DTSTART:20260430T150000Z
DTEND:20260430T160000Z
SUMMARY:Memorial Service
DESCRIPTION:
URL:https://www.morinfuneralhomes.com/obituaries/linda-faucher
LOCATION:J. Henri Morin & Son Funeral Home 23 Maple St  Spencer MA 01562
GEO:42.2426623;-71.9910878
END:VEVENT
END:VCALENDAR