BEGIN:VCALENDAR
VERSION:2.0
PRODID:-//Tukios.com/
BEGIN:VEVENT
UID:2c563dc7-3aa1-4946-b160-5f683660100b@www.morinfuneralhomes.com
DTSTAMP:20260420T174425Z
DTSTART:20260423T200000Z
DTEND:20260423T220000Z
SUMMARY:Visitation
DESCRIPTION:A Prayer Service will conclude the calling hours at 6 P.M.
URL:https://www.morinfuneralhomes.com/obituaries/raymond-young-sr
LOCATION: 23 Maple St  Spencer MA 01562
GEO:42.2426623;-71.9910878
END:VEVENT
END:VCALENDAR