BEGIN:VCALENDAR
VERSION:2.0
PRODID:-//Tukios.com/
BEGIN:VEVENT
UID:0febd6de-d031-4dd7-9cf1-2093ea265a58@www.morinfuneralhomes.com
DTSTAMP:20260420T174302Z
DTSTART:20260423T220000Z
DTEND:20260423T230000Z
SUMMARY:Prayer Service
DESCRIPTION:
URL:https://www.morinfuneralhomes.com/obituaries/raymond-young-sr
LOCATION:J.HENRI MORIN & SON FUNERAL HOME 23 Maple Street  Spencer MA 
	01562
GEO:42.2427721;-71.9911904
END:VEVENT
END:VCALENDAR